BEGIN:VCALENDAR
VERSION:2.0
PRODID:-//EMTL - ECPv5.10.1//NONSGML v1.0//EN
CALSCALE:GREGORIAN
METHOD:PUBLISH
X-WR-CALNAME:EMTL
X-ORIGINAL-URL:https://furnitureindustry.ee/en
X-WR-CALDESC:Events for EMTL
BEGIN:VTIMEZONE
TZID:Europe/Tallinn
BEGIN:DAYLIGHT
TZOFFSETFROM:+0200
TZOFFSETTO:+0300
TZNAME:EEST
DTSTART:20170326T010000
END:DAYLIGHT
BEGIN:STANDARD
TZOFFSETFROM:+0300
TZOFFSETTO:+0200
TZNAME:EET
DTSTART:20171029T010000
END:STANDARD
END:VTIMEZONE
BEGIN:VEVENT
DTSTART;TZID=Europe/Tallinn:20170913T080000
DTEND;TZID=Europe/Tallinn:20170913T210000
DTSTAMP:20260421T114258
CREATED:20170829T080237Z
LAST-MODIFIED:20170829T080853Z
UID:4073-1505289600-1505336400@furnitureindustry.ee
SUMMARY:SOOME Habitare mess ja Stefan Nilssoni seminar
DESCRIPTION:Eesti Mööblitootjate Liit\nKutsume liidu liikmeid ja sidusalade professionaale külastama Habitare messi Helsingis 13. septembril.\nLisaväärtuse messikülastusele annab Rootsi trendieksperdi Stefan Nilssoni inspireeriv seminar laevareisil Helsingisse. \nHabitare on igal aastal korraldatav Soome suurim ja esinduslikem mööbli-\, sisustus- ja disainimess. Habitare toimub 28. korda. 2016. aastal oli üle 51 tuhande külastaja\, osales 360 eksponenti. Eestist on Habitarel traditsiooniliselt üle poole tuhande külastaja. \nErialaprofessionaalide messikülastuspakett Stefan Nilssoni seminariga laevas \nKolmapäeval\, messi profipäeval\, 13.9. kutsub Profexpo messikülastusreisile Helsingisse. \nOleme aastaid korraldanud Habitarele erialakülastajate reise. Ka sel korral ootame disainist ja trendidest huvitatuid liituma teemakohase seminariga Viking XPRS pardal.\n \nInspireeriva ettekandega astub üles Stefan Nilsson (Trends and Friends\, Rootsi). Tegu on Rootsi tuntuima trendieksperdiga\, kes nõustab ja töötab koos Põhjamaade juhtivate trendiagentuuridega. \nStefan räägib oma ettekandes tuleviku trendidest\, mis valdkonda lähiajal mõjutama hakkavad. \nMessikülastuspakett 13.9. \n\nViking Line\, Tallinn – Helsingi\, väljumisega kell 8.00\nStefan Nilssoni seminar laeval\nseminarikohv ja puuviljad\nbussitransfeer sadam – messikeskus\nViking Line\, Helsingi – Tallinn\, väljumisega 21:30.\nVõimalikud on ka varasemad väljumised kl 16:30 ja 19:30.\nHabitare profipäeva messipääse\n\nPaketi maksumus alates 89 €* \n* Soodsamad paketid on Eesti Sisearhitektide\, Arhitektide ning Mööblitootjate liitude liikmetele. Soodustus on 10 € registreerimisel kuni 31.8. \nRegistreerimine messireisile \nMessikülastusest osa võtta soovijatel palume registreeruda hiljemalt 4. septembriks 2017. \nPakettide kirjelduse ja registreerimisvormi leiab siit \nHabitare teemavaldkonnad\, tootegrupid: \nmööbel\, köögid\, kodutehnika\, vannitoad ja saunad\, lifestyle\, materjalid ja tarvikud\, pinnamaterjalid\, sisustustooted ja -teenused\, kaminad ja tulekolded\, majapaketid\, tekstiilid\, sisekujunduse materjalid ja tarvikud\, valgustusseadmed\, kunstkäsitöö\, laste teemaala Habi Kids\, nüüdiskunsti teemasektsioon Habitare Art\, kodutehnika sektsioon Habitare Digi ja valgustusala Habitare Light ja disainiala Ahead. \nÜrituste ning teemaalade info\, messil osalejad ja muu olulise leiab korraldajate kodulehelt ja eestikeelse kokkuvõtte Profexpo OÜ kodulehelt. \nTeemamessid \nLisaks Habitarele on viiel päeval avatud Antiigimessi (antiik\, vanem kunst\, vintage). Peamiselt proffidele suunatud Helsinki Design Week raames toimuv Showroom’17 on avatud 13.-15.9. \n15.-17.9. on avatud HighEnd Helsinki heli- ja pildiedastusseadmete mess ja Forma sügismess kingituste\, sisustustoodete edasimüüjatele. \nLisainfo \nKennet Sarv\nProfexpo OÜ\, Messukeskus Helsinki esindaja Eestis\nTel 626 1347\, info@profexpo.ee\nEestikeelne info ja messikalender www.profexpo.ee/messukeskus
URL:https://furnitureindustry.ee/en/sundmused/soome-habitare-mess-ja-stefan-nilssoni-seminar/
LOCATION:Messukeskus\, Messuaukio 1\, Helsinki\, 00520\, Soome
END:VEVENT
END:VCALENDAR